BEGIN:VCALENDAR
PRODID:-//hacksw/handcal//NONSGML v1.0//EN
VERSION:2.0
METHOD:PUBLISH
BEGIN:VEVENT
DTSTART:20140124T150000Z
DTEND:20140124T230000Z
LOCATION:Doubletree Hotel - Reid Parik
UID:1005920140124T150000ZEstate Planners' Day - Hot Planning Topics for 2014: A Discussion of Three Diverse Areas of Concern to Clients
DTSTAMP:20260421T103416Z
DESCRIPTION:
SUMMARY:Estate Planners' Day - Hot Planning Topics for 2014: A Discussion of Three Diverse Areas of Concern to Clients - Southern Arizona Estate Planning Council 
PRIORITY:3
BEGIN:VALARM
TRIGGER:PT18H
ACTION:DISPLAY
DESCRIPTION:Reminder
END:VALARM
END:VEVENT
END:VCALENDAR