BEGIN:VCALENDAR
PRODID:-//hacksw/handcal//NONSGML v1.0//EN
VERSION:2.0
METHOD:PUBLISH
BEGIN:VEVENT
DTSTART:20160316T223000Z
DTEND:20160317T020000Z
LOCATION:Arizona Inn
UID:1188820160316T223000ZCaring for the Elder in the Practice of Law
DTSTAMP:20260421T101729Z
DESCRIPTION:\nObjectives\n \nThe presenter’s written materials and Power Point presentations will address:\n How the U.S. health system fails older persons with chronic care needs. Developments to remedy these deficiencies in chronic care, including the Chronic Care Model, the Triple Aim, Patient-Centered Medical Home, and Medicare Chronic Care Management. Introduction to Life Care Planning and the Elder-Centered Law Practice. The principles of planning for the care of older persons and the three care planning domains. Understanding of the “Elder Care Continuum” and How functional limitations relate to different levels of care. Recognize the “Danger Zone” and how it leads to crises. What older clients and their caregivers worry about it and How the Elder-Centered Law Practice can alleviate these worries. \nSession 1\n \nCaring for the Elder in the Practice of Law, part 1: Chronic Illness Care in the U.S.-The Problem and the Solutions\n \nProgram Description\n \nThe presenter will address chronic illness care from various perspectives; the cycle of crisis care; the usual care model; what patients need; and what must be done.\n \nTopics to be covered include:\n Chronic care in the United States: who needs it, how older people get it, and barriers to good chronic illness care Reform of the health care delivery system; the Chronic Care Model; the Triple Aim; the Patient-Centered Medical Home and Medical Neighborhood; and the Elder-Centered Law Practice The Elder-Centered Law Practice in new health system designs \nSession 2\n \nCaring for the Elder in the Practice of Law, part 2: Planning Along the Elder Care Continuum\n \nProgram Description\n \nLife Care Planning focuses on the care of an older person in an elder law practice. What does this practice model mean for your present and future clients? An integrated and multidisciplinary approach to client management in a law firm, members of the clients’ care team include non-lawyer health care professionals such as nurses and social workers. Attendees will be able to compare and contrast the traditional elder law model of practice to the life care planning practice model.\n \nOur focus in this CLE will be on furthering the understanding the Elder Care Continuum and explaining how it is used in planning for the long-term services and supports of the older client.\n \nTopics to be covered include:\n Fundamental principles of care planning for older clients Care planning domains Who needs to plan?: HOPs and UnHOPs Caregivers’ perspectives: core problematic areas Questions planners should ask
SUMMARY:Caring for the Elder in the Practice of Law - Southern Arizona Estate Planning Council 
PRIORITY:3
BEGIN:VALARM
TRIGGER:PT18H
ACTION:DISPLAY
DESCRIPTION:Reminder
END:VALARM
END:VEVENT
END:VCALENDAR