BEGIN:VCALENDAR
PRODID:-//hacksw/handcal//NONSGML v1.0//EN
VERSION:2.0
METHOD:PUBLISH
BEGIN:VEVENT
DTSTART:20170420T001500Z
DTEND:20170420T023000Z
LOCATION:Arizona Inn
UID:1389720170420T001500ZA Different Way to Invest
DTSTAMP:20260421T102221Z
DESCRIPTION:\nRegistration and cocktails\n \n5:15pm – 5:45pm\n \nDinner\n \n5:45pm – 6:30pm\n \nProgram\n \n6:30pm – 7:30pm\n \n \n \nRESERVATIONS\n \nRSVP via email to admin@saepc.org or register below\n \nby Friday, Apr. 14th\n \nYou will be sent a return email confirmation.\n \n \n \nThe handout for this program can be downloaded via the link below.\n \n* Please note printed handouts at the meetings are only provided to those individuals who have purchased the Handout Subscription *\n \n \n \nAbout Apollo Lupescu\n \nApollo D. Lupescu is vice president at Dimensional Fund Advisors, where he started in 2004 after finishing his PhD in economics and finance at the University of California, Santa Barbara. During his tenure at the firm, Apollo has gained experience in a wide variety of practical subject matters. He was part of the Dimensional Investment Strategies group, worked directly with financial advisors in the Northeast area assisting in the development of their business, managed the internal Client Services team that provides broad analytical support, and then oversaw the firm’s national advisor retirement business. He is currently Dimensional’s “secretary of explaining stuff.” In this role, he frequently presents around the country and the world at financial advisor professional conferences and individual investor events.\n \nPrior to joining Dimensional, Apollo had his own consulting firm, which provided services to the US Department of State and the White House on a variety of projects. His interests in finance and investments led him to teaching engagements at the University of California, Santa Barbara. In addition to his PhD from UCSB, Apollo has a BA from Michigan State University, where he competed in and coached water polo.\n \n \n \n----------------------------------------------------------------------------------------------------------------------\n \n \n \nOFFICERS : President Roxanne L. Fickett, CTFA, AEP®, AAMS®; Vice President/Programs - Scott W. Styrmoe, CPA, CFP®; Secretary Robert B. Fleming, AEP®; Treasurer/Webinars - Benjamin J. Burnside, CELA; Immediate Past President - Anne C. Hoff, CPA, AEP®\n \n\nDIRECTORS: Director/Estate Planners’ Day - Nicole Harrigan, CPA; Assistant Secretary/ Membership Development - Brent W. Nelson; Assistant Treasurer/Continuing Education – John Stephens, CFP®\n \n \n \nSAEPC, 3900 E. Timrod St., Tucson, AZ 85711\n \nPhone: 520-881-1778\n \nFAX: 520-322-6778\n
SUMMARY:A Different Way to Invest - Southern Arizona Estate Planning Council 
PRIORITY:3
BEGIN:VALARM
TRIGGER:PT18H
ACTION:DISPLAY
DESCRIPTION:Reminder
END:VALARM
END:VEVENT
END:VCALENDAR