BEGIN:VCALENDAR
PRODID:-//hacksw/handcal//NONSGML v1.0//EN
VERSION:2.0
METHOD:PUBLISH
BEGIN:VEVENT
DTSTART:20170419T184500Z
DTEND:20170419T203000Z
LOCATION:Bogutz & Gordon, PC, 3503 N. Campbell Ave #101
UID:1455320170419T184500ZWebinar - Hot Valuation Issues in Estate Planning
DTSTAMP:20260419T145102Z
DESCRIPTION:\nContinuing Education Webinar\n brought to you by SAEPC\n \n\nSpace is limited to 10 people\n \n*Please notice time and location changes*\n \n \n \n11:45 – 12:00\n \nCheck-In\n \nPlease feel free to bring your lunch to eat during this time and/or during the webinar.\n \n\n12:00 - 1:00 \n Webinar\n\n1:00 - 1:30\n Discussion\n \nPost webinar discussion amongst attendees is encouraged.  Anyone who is attending is welcome to volunteer to facilitate the discussion.\n \n \n \n1 hour of continuing education credit\n \n \n \nRESERVATIONS\n \n If you purchased the Webinar Series Subscription with your membership renewal, all you need to do is RSVP via [email](mailto:admin@saepc.org?subject=April%2019th%20webinar%20&body=I%20will%20attend.) if you will be attending. You will be sent a return email confirmation.\n\nIf you did not purchase the Webinar Series Subscription, please log-in to register and to pay the $20 fee to attend this webinar or to purchase the Subscription. You will be sent a return email confirmation.\n \n \n \nAbout the program: This advanced program includes an update on the Cecil tax court case including tax affecting S corporation earnings and respect of entity. The importance of quantifying personal goodwill and determining if the "business" is salable (hint many small businesses are not salable) will also be discussed. We will wrap up with a dozen appraisal review points that will result in a winning appraisal.\n \n \n \nAbout the speaker: DAVID P. ADAMS III, CPA, ABV, ASA is President of Adams Capital, a leading National provider of strategic business valuation and financial advisory services. Prior to forming Adams Capital, Mr. Adams practiced business valuation with Coopers & Lybrand and KPMG Peat Marwick. Mr. Adams received a BS degree in Mechanical Engineering from Georgia Tech and an MBA with a concentration in finance from Georgia State. He is an Accredited Senior Appraiser with the American Society of Appraisers, and the past president of the society's Atlanta Chapter. Mr. Adams is a Certified Public Accountant, Accredited in Business Valuation and a member of the American Institute of Certified Public Accountants. Mr. Adams is also a member and past management committee member of the Georgia Society of Certified Public Accountants where he previously served on the board, estate gift and trust committee and personal finance committee. He is past president of the Buckhead chapter of the Georgia Society of Certified Public Accountants. Immediate past president of the Atlanta Estate Planning Council. Mr. Adams is recognized as a qualified expert witness and has provided expert testimony in Tax Court, Alabama, California, Florida, Georgia, New York, Pennsylvania and Tennessee. \n ------\n\n \nNext Webinar :\n Wednesday, May 10th\n \n[Effective Estate Planning for Diminished Capacity; Can You Really Avoid a Guardianship?](http://www.naepc.org/events/event/14015)\n \nDiana S.C. Zeydel, JD, LL.M., AEP® (Distinguished)\n \n\n  \n \nOFFICERS : President Roxanne L. Fickett, CTFA, AEP®,  AAMS®; Vice President/Programs - Scott W. Styrmoe, CPA, CFP®; Secretary Robert B. Fleming, AEP®; Treasurer/Webinars - Benjamin J. Burnside, CELA; Immediate Past President - Anne C. Hoff, CPA, AEP®\n \n\nDIRECTORS: Director/Estate Planners Day - Nicole Harrigan, CPA; Assistant Secretary/ Membership Development - Brent W. Nelson; Assistant Treasurer/Continuing Education – John\n \nStephens, CFP®\n \n \n \n \n \nSAEPC, 3900 E. Timrod St., Tucson, AZ 85711\n \nPhone: 520-881-1778\n \nFAX: 520-322-6778\n
SUMMARY:Webinar - Hot Valuation Issues in Estate Planning - Southern Arizona Estate Planning Council 
PRIORITY:3
BEGIN:VALARM
TRIGGER:PT18H
ACTION:DISPLAY
DESCRIPTION:Reminder
END:VALARM
END:VEVENT
END:VCALENDAR