BEGIN:VCALENDAR
PRODID:-//hacksw/handcal//NONSGML v1.0//EN
VERSION:2.0
METHOD:PUBLISH
BEGIN:VEVENT
DTSTART:20170913T184500Z
DTEND:20170913T203000Z
LOCATION:TCI Wealth Advisors, Inc., 4011 E. Sunrise Dr.
UID:1489420170913T184500ZWEBINAR - The Perfect Modern Trust Including Income Tax Sheltering Opportunities -FULL-
DTSTAMP:20260421T102403Z
DESCRIPTION:\nThis webinar is full. Please send us an [email](mailto:admin@saepc.org?subject=Sept.%2013th%20Webinar) to be placed on a waiting list. \n \n11:45 – 12:00\n Check-In\n \nPlease feel free to bring your lunch to eat during this time and/or during the webinar.\n \n\n12:00 - 1:00 \n Webinar\n\n1:00 - 1:30\n Discussion\n \nPost webinar discussion amongst attendees is encouraged.\n \nAnyone who is attending is welcome to volunteer to facilitate the discussion.\n \n \n \nTCI Wealth Advisors, Inc.\n 4011 E. Sunrise Dr.\n 520.733.1477\n\n 1 hour of continuing education credit\n\n\n RESERVATIONS\n\n This webinar is complimetary for members. If you are a member who would like to attend, please RSVP below or via [email](mailto:admin@saepc.org?subject=9%2F13%2F17%20Webinar&body=I%20will%20attend.)\n\n You will be sent a return email confirmation.\n \n \n \nAbout the program:\n\n Unfortunately, with shocking regularity, advisors who are too passive fail to advise clients during the estate planning process about the unnecessary substantial harm that will occur by not using a properly designed and monitored trust. Risking the appearance of blasphemy, this intermediate/advanced presentation will analyze the concept of using the same trust design, with minimal, but meaningful alterations, that is best for all clients, including powerful income tax planning opportunities with reverse, lateral and down-stream planning.\n \nAbout the speaker:\n\n Richard A. Oshins concentrates on tax and estate planning with a substantial emphasis on multi-generational wealth planning particularly with regard to closely-held entities. He was inducted into the NAEPC – “Estate Planning Hall of Fame” in 2007; selected by Worth magazine as one of the top 100 Attorneys in the U.S.; and has been named one of the 24 “Elite Estate Planning Attorneys” by Trust Advisor. Prior to entering private practice, Dick served as a law clerk at the United States Court of Claims in Washington D.C. and as an Attorney-Advisor in the Office of Tax Legislative Counsel, U.S. Treasury Department, in Washington D.C.\n
SUMMARY:WEBINAR - The Perfect Modern Trust Including Income Tax Sheltering Opportunities -FULL- - Southern Arizona Estate Planning Council 
PRIORITY:3
BEGIN:VALARM
TRIGGER:PT18H
ACTION:DISPLAY
DESCRIPTION:Reminder
END:VALARM
END:VEVENT
END:VCALENDAR