BEGIN:VCALENDAR
PRODID:-//hacksw/handcal//NONSGML v1.0//EN
VERSION:2.0
METHOD:PUBLISH
BEGIN:VEVENT
DTSTART:20180419T001500Z
DTEND:20180419T023000Z
LOCATION:Arizona Inn, 2200 E. Elm Street
UID:1490320180419T001500ZGuide to the Markets
DTSTAMP:20260421T101140Z
DESCRIPTION:\nThis is the last meeting of the season!\n \nBelow is the list ballot list of nominees for the 2018-2019 SAEPC Board of Directors. Voting will take place at the April 18, 2018 meeting. Nominations from the floor will be accepted, requiring two seconds.\n \nPresident – Robert B. Fleming\n \nVice President – Benjamin J. Burnside\n \nSecretary – Nicole Harrigan\n \nTreasurer – Brent W. Nelson\n \nDirector – John J. Stephens\n \nAssistant Secretary – Anne Roediger\n \nAssistant Treasurer – Christina Noz\n \n \n \nScott W. Styrmoe will become Immediate Past President.\n \n----------------------------------------------------------------------------------------------------------------------\n \n \n \nSAEPC MEETING NOTICE\n \nWEDNESDAY, April 18, 2018\n \n“Guide to the Markets”\n \nDavid Lebovitz\n \nJ.P. Morgan Asset Management\n \nNew York City, NY\n \n \n \nThe Guide to the Markets provides an effective framework for understanding the global market and economy. This quarterly-updated presentation is aimed to educate financial professionals on developments within in markets and how it affects various investments and asset classes. It is designed to present statistics and data through charts and graphs, in a way that can help advisors address the markets and the economy based on logic rather than emotion while supporting their efforts to help clients make rational investment decisions.\n \n \n \nArizona Inn, 2200 E. Elm Street\n \nRegistration and cocktails\n \n5:15pm – 5:45pm\n \nDinner\n \n5:45pm – 6:30pm\n \nProgram\n \n6:30pm – 7:30pm\n \n \n \nRESERVATIONS\n \nRSVP below by Friday, Apr. 13th\n \nYou will be sent an email confirmation.\n \n \n \nDownload the handout for this program below.\n \n* Please note printed handouts at the meetings are only provided to those individuals who have purchased the Handout Subscription *\n \n \n \nAbout the speaker\n \nDavid M. Lebovitz, Executive Director, is a Global Market Strategist on the J.P. Morgan Asset Management Global Market Insights Strategy Team. In this role, David is responsible for delivering timely market and economic insights to clients across the country. David helped build the Market Insights program in the United Kingdom and Europe, has appeared on both Bloomberg TV and CNBC, and is often quoted in the financial press.\n \nDavid first joined J.P. Morgan in 2010. Prior to joining the firm, he was a Research Analyst at Kobren Insight Management.\n \nDavid obtained a B.A. in Political Science and Philosophy, with a concentration in Leadership Studies, from Williams College in 2009. He earned a dual-MBA degree from Columbia University and London Business School in 2015.\n \nAbout the program\n \nThis session will shed light on our current investment outlook and opportunities we are seeing across the global markets. David will share JPMorgan’s perspectives on key topics from the job market and economic growth, consumer confidence, implication of monetary and fiscal stimulus and more.\n
SUMMARY:Guide to the Markets - Southern Arizona Estate Planning Council 
PRIORITY:3
BEGIN:VALARM
TRIGGER:PT18H
ACTION:DISPLAY
DESCRIPTION:Reminder
END:VALARM
END:VEVENT
END:VCALENDAR