BEGIN:VCALENDAR
PRODID:-//hacksw/handcal//NONSGML v1.0//EN
VERSION:2.0
METHOD:PUBLISH
BEGIN:VEVENT
DTSTART:20180110T184500Z
DTEND:20180111T033000Z
LOCATION:DoubleTree Hotel - Grand Ballroom, 445 S. Alvernon Way, Tucson, Arizona
UID:1548920180110T184500ZEstate Planners' Day 2018
DTSTAMP:20260421T101809Z
DESCRIPTION:\nONLINE REGISTRATION IS CLOSED - WE'LL SEE YOU THERE!\n \n11:45 - 12:45 - Sign-In and Reception Lunch with Exhibitors\n 12:45 - 1:00 - Welcome/Introductions\n   1:00 - 2:45 - 'Buy-Sell Agreements; Life Insurance; and Estate Planning Transfers'\n   2:45 - 3:00 - Break with Exhibitors\n   3:00 - 4:35 - 'Income Tax Exit Strategies'\n   4:35 - 5:15 - Reception with Exhibitors\n   5:15 - 6:00 - Buffet Dinner\n   6:00 - 8:30 - 'Tricks and Traps for Trusts Holding Pass-Through Entities' & 'Current Developments'\n \n-----------------------------------------------------------------------------------------------------------------------------------\n \nPrograms Descriptions\n \n'Buy-Sell Agreements; Life Insurance; and Estate Planning Transfers'\n \nWe will discuss fundamental principles of buy-sell agreements, then review tax traps and legal tools when using life insurance to fund buy-sell agreements.  We will conclude with protective valuation measures used when selling one’s business to trusts.\n \n'Income Tax Exit Strategies'\n \nWe will compare and contrast income tax exit strategies from C corporations, S corporations, and partnerships, focusing on cash flow issues rather than technical details.  We will evaluate a structure that avoids excessive self-employment tax and net investment income tax, maximizes opportunities for inside basis step, and minimizes income tax exit costs.  We will review income tax strategies to transition a business to key employee.\n \n'Tricks and Traps for Trusts Holding Pass-Through Entities'\n \nPassing S corporations and partnerships through trusts can create cash flow issues and tax traps, but sometimes creating a business entity can yield pleasant surprises in managing a trust’s income tax.\n \n'Current Developments'\n \nMaterials will include a very significant list of recent developments in estate planning from the most recent year.  To the extent that tax reform occurs, we will discuss strategic and tactical issues in responding to those changes.  Recent developments in portability and basis step-up strategies provide more effective tools.  We will discuss other trends and planning opportunities.\n \n \n \nAbout the speaker\n \nSteve is a nationally recognized practitioner in the areas of estate planning and the structuring of privately held businesses. Lawyers, accountants and business owners regularly look to Steve for fresh, highly knowledgeable insights into the best possible tax and estate planning approaches to their transactions.\n \nSteve crafts estate plans for individuals, keeping in mind their financial security and desire to save income and estate tax. In his work for businesses, Steve helps owners plan for the eventual sale (to co-owners, employees, or third parties)or transfer (to family members), and provides a legal framework for an orderly transition while strategically saving income, transfer, and FICA taxes.\n \nDrawing on his background as an accountant — and his still-current CPA license and Chartered Global Management Accountant credential — Steve structures businesses to achieve business objectives and save income or estate tax. He has helped fledgling businesses organize, thriving businesses restructure to save hundreds of thousands of dollars of income tax when planning a transition to the next ownership group, and mature multi-million or billion-dollar businesses plan tax-saving transfers to the next generation.\n \nOver the course of his 30-year career, Steve has amassed a deep knowledge of nearly every aspect of tax strategy for privately held businesses and freely shares that knowledge with others in the field. His quarterly newsletter, Business Succession Solutions," is considered essential reading for hundreds of CPAs and attorneys, who describe it as "a fantastic contribution to the field." Steve also maintains a blog, Business Succession Solutions, intended to help business owners — and those who advise or support them — consider smart tax strategies.\n \nSteve is a highly visible member of the ABA's Real Property, Trust & Estate Law Section and the American College of Trust & Estate Counsel, which regularly directs its members to Steve's quarterly newsletter. He has represented both groups in comments to the IRS, the U.S. Treasury, and tax lawmakers.\n \nMore about Steve [here](https://www.thompsoncoburn.com/people/steve-gorin)\n \n  \nSAEPC would like to thank our sponsors for their support!\n\nGOLD SPONSORS\n\nCommunity Foundation for Southern Arizona\n CFA Society of Tucson\n\n\nDINNER SPONSOR\n\nRaskob Kambourian Financial Advisors Ltd.\n\n\nSILVER SPONSORS\n\nTCI Wealth Advisors \nMission Management & Trust Co.\nPinnacle Plan Design, LLC \nBMO Private Bank \n  \n  \nRECEPTION SPONSOR \n  \nMerrill Lynch, Ken Morris, CFA, CFP® \n  \n\nFLASH DRIVE SPONSOR\n\n Robert B. Fleming - Fleming & Curti, PLC\n\n\nLANYARD SPONSOR\n\n Pinnacle Plan Design, LLC\n\n\nBRONZE SPONSORS\n Snell & Wilmer\n Regier, Carr & Monroe, LLP\n Bogutz & Gordon, PC\n Wells Fargo Wealth Management Group\n Northern Trust\n Law Office of Mark Rubin \n \nMidwestern University Body Donation Program  \n  \n  \nCancellation Information \n  \n- Cancellation by 1/2/18 — Refund minus $100 \n- Any time through 1/2/18, a registration may be transferred to another person for $60 plus any\n \napplicable difference in fees.\n \n- After 1/2/18, no refunds or transfers\n \n- Any cancellations mailed in must be received on or before the cancellation deadline date.\n \n- All cancellations must be in writing.\n \nThe registration is a package fee. There are no adjustments for not attending meals or for attending only a portion of the presentation.\n \nRegistrations received after 1/8/18 and walk-up registrations will be on a space-available basis and will be at a greater registration fee.\n \n \n \n \n  \n  \n 
SUMMARY:Estate Planners' Day 2018 - Southern Arizona Estate Planning Council 
PRIORITY:3
BEGIN:VALARM
TRIGGER:PT18H
ACTION:DISPLAY
DESCRIPTION:Reminder
END:VALARM
END:VEVENT
END:VCALENDAR