BEGIN:VCALENDAR
PRODID:-//hacksw/handcal//NONSGML v1.0//EN
VERSION:2.0
METHOD:PUBLISH
BEGIN:VEVENT
DTSTART:20190125T150000Z
DTEND:20190125T230000Z
LOCATION:DoubleTree Hotel - Grand Ballroom, 445 S. Alvernon Way, Tucson, Arizona
UID:1650720190125T150000ZEstate Planners' Day 2019
DTSTAMP:20260421T101620Z
DESCRIPTION:\nCheck-in and Hosted Continental Breakfast\n \n8:00 am - 9:00 am\n \nOpening Notes from our Council\n \n9:00 am - 9:15am\n \nBusiness Succession Planning\n \n9:15 am - 10:30 am\n \nBreak\n \nBusiness Succession Planning\n \n10:50 am - 12:10 pm\n \nLunch\n \n12:10 pm - 1:05 pm\n \nPlanning for the 99%\n \n1:05 pm - 2:25 pm\n \nBreak\n \nSocial Security & Medicare Planning\n \n2:45 pm - 4:00 pm\n \n \n \nRESERVATIONS\n \nRSVP by 4 pm January 15, 2019\n \nYou will be sent a return email confirmation\n \nOnce the handout for this program has been made available to us, you will be able to access it here.\n \n* Please note printed handouts are available for $75*\n \n \n \nAbout Steven G. Siegel\n \nSteven Siegel is president of The Siegel Group, which provides\n \nconsulting services to attorneys, accountants, business owners, family offices and financial planners. Based in Morristown, New Jersey, the Group provides\n \nservices throughout the United States.\n \n Mr. Siegel is the author of many books, including: The Grantor Trust Answer Book (2018 CCH); The Adviser’s Guide to Financial and Estate Planning (AICPA 2018); Federal Fiduciary Income Taxation (Foxmoor 2018); Federal Estate and Gift Tax (Foxmoor 2016)). He is the co-author with Richard Oshins, Esq. of The Anatomy of the Perfect Modern Trust, Estate Planning Magazine, January and February 2016.\n \nIn conjunction with numerous tax planning lectures he has delivered for the National Law Foundation, Mr. Siegel has prepared extensive lecture materials on the following subjects: Planning for An Aging Population; Business Entities: Start to Finish; Preparing the Audit-Proof Federal Estate Tax Return; Business Acquisitions: Representing Buyers and Sellers in the Sale of a Business; Dynasty\n \nTrusts; Planning with Intentionally-Defective Grantor Trusts, Introduction to Estate Planning; Intermediate-Sized Estate Planning; Social Security, Medicare and Medicaid: Explanation and Planning Strategies; Subchapter S Corporations: Using Trusts as Shareholders; Divorce and Separation: Important Tax Planning Issues; The Portability Election; and many other titles.\n \n     Mr. Siegel has delivered hundreds of lectures to thousands of attendees in live venues and via webinars throughout the United States on tax, business and estate planning topics on behalf of numerous organizations, including The Heckerling Institute on Tax Planning, Notre Dame Tax and Estate Planning Institute, CCH, National Law Foundation, AICPA, The Kansas City Estate Planning Symposium, Yale School of Management; U. of Chicago Business School, Western CPE, the National Society of\n \nAccountants, Cohn-Reznick, Foxmoor Education, many State Accounting Societies and Estate Planning Councils (including: The California CPA Society, The Southern Nevada Estate Planning Council; the Oregon CPA Society; the Southern Arizona Estate Planning Council; the Georgia CPA Society) as well as on behalf of many private companies.\n \n            He is presently serving as an adjunct professor of law in the Graduate Tax Program (LLM) of the University of Alabama (teaching Income Taxation of Trusts and Estates), and has served as an adjunct professor of law at Seton Hall and Rutgers University law schools.\n \n     Mr. Siegel holds a bachelor’s degree from Georgetown University (magna cum laude, phi beta kappa), a juris doctor from Harvard Law School and an LLM in Taxation from New York University Law School.\n \n \nAbout the program\n \n \n \n \n \nA Discussion of Three Diverse Areas of Concern to Clients\n \n \n \nBusiness Succession Planning:\n \nOne of the most difficult issues facing a business owner and his or her advisors is what to do with the business as the owner addresses the realities of aging, retirement and illness. A lifetime of effort and success deserves to be preserved if at all possible. Is there a plan? How can a plan be created? What should be done? How should a spouse and children be provided for? Should the owner hang on or step away? How will value be realized? What is “fair” to all concerned? What tax considerations should be addressed? Can anything be done if the owner dies and did no planning? These are the issues confronting the practitioner as advisor to his or her family business     clients. \n \nPlanning for the 99%:\n \nHow do the current tax rules and latest developments affect clients with small and mid-sized estates. The higher exclusions would seem to make sophisticated estate planning unnecessary for many clients whose estates will not exceed the taxation thresholds. But there are many other considerations that should go into an estate plan           including portability, income tax basis considerations and asset protection concerns that make "simple" planning a risk for many clients. Life insurance, retirement plans, existing estate plans, gifting and many other issues may \n \nneed to be considered differently when advising clients in this new world of estate planning.\n \nSocial Security and Medicare Planning:\n \nWith the Baby Boom generation entering retirement in record numbers, advisors are getting more questions about Social Security and Medicare. Understanding the complex rules and requirements and eligibility issues of these programs is important when you must answer questions from your clients or their aging parents. Learn the        essentials of the program, when benefits are available, spousal eligibility, divorced spousal eligibility, and more. Examine how these benefits are taxed and which strategies one should employ to maximize benefits and avoid costly penalties.\n \n \n \nCancellation policy\n \n \n \nAfter 1/15/19, no refunds or transfers\n \n \n \nAny cancellations mailed in must be received on or before the cancellation deadline date.\n \nAll cancellations must be in writing.\n \nThe registration is a package fee.\n \nThere are no adjustments for not attending meals or for attending only a portion of the presentation.\n \n\n  \n \nThank you to our 2019 EPD Sponsors\n \n \n \nGold Sponsors: \n \nCommunity Foundation for Southern Arizona\n \nNorthern Trust\n \nSilver Sponsors:\n \nMission Management & Trust Co.\n \nBMO Private Bank\n \nTCI Wealth Advisors\n \nPinnacle Plan Design, LLC\n \nFlash Drive Sponsor:\n \nFleming & Curti, PLC\n \nLanyard Sponsor:\n \nPinnacle Plan Design, LLC\n \nBronze Sponsors:\n \nBogutz & Gordon, P.C\n \nRoediger Hoff, PLC\n \nFletcher Struse Fickbohn & Wagner, PLC\n \nSnell & Wilmer, LLP\n \n \n
SUMMARY:Estate Planners' Day 2019 - Southern Arizona Estate Planning Council 
PRIORITY:3
BEGIN:VALARM
TRIGGER:PT18H
ACTION:DISPLAY
DESCRIPTION:Reminder
END:VALARM
END:VEVENT
END:VCALENDAR