BEGIN:VCALENDAR
PRODID:-//hacksw/handcal//NONSGML v1.0//EN
VERSION:2.0
METHOD:PUBLISH
BEGIN:VEVENT
DTSTART:20191211T230000Z
DTEND:20191212T023000Z
LOCATION:Arizona Inn, 2200 E. Elm Street
UID:1799420191211T230000ZExcellence Under Pressure: A Leadership Development Seminar 
DTSTAMP:20260423T105246Z
DESCRIPTION:\nPlease note that this is a 2-hour late start meeting.\n \nThis meeting does not qualify for CFP CE\n \nRegistration and cocktails\n \n4:00pm – 4:30pm\n \nProgram\n \n4:30pm – 6:30pm\n \nDinner\n \n6:30pm – 7:30pm\n \n \n \nRESERVATIONS\n \nRSVP\n \nby Friday, Dec. 6th\n \nYou will be sent a return email confirmation.\n \nOnce the handout for this program has been made available to us, you will be able to access it here.\n \nAbout the program\n \nHuman dynamics live at the heart of any team’s ability to build trust and accountability with each other. Understanding how people communicate differently, and behave differently, under pressure are two essential building blocks to developing a high-performance team. Our Market Force Styles Seminar introduces already successful teams to a framework for working better together under pressure, which increases productivity and resiliency in your company culture.\n  \n \nAs part of our speaker series, we have a Workshop from 4:30-6:30 on Wednesday the 11th. Travis Carson, the Founder of Market Force Global, will be leading this workshop by helping all of you through the process of learning your own personal Style and how to use this information to improve your working relationships with colleagues and clients. Here is a bit of an introduction:\n \n \n \nDo you have a fight or flight response when under pressure? How well do you respond to people in times of stress? You naturally hard-wired for survival, and you are really good at it! In fact, your survival programming runs even when your life isn't being threatened, which isn't always useful. You were naturally wired with one of four survival strategies. We call this your Style.\n \n \n \nGaining awareness of your Style allows you to better manage your own biology, giving you greater versatility in daily interactions with others. When you begin to see other people’s Styles in action, you will build more powerful relationships with them. And become the solution to their concerns. We call this getting wired for prosperity.\n \nIn the Market Force Workshop, participants will develop practical skills to improve all your working relationships:\n \n*Learn how your brain and biology work under pressure.\n \n*Create a personal growth plan regarding your Market Force Style to overcome persistent challenges and improve work satisfaction\n \n*Learn general principles for how different Styles relate to one another, with ideas for how to upgrade all relationships\n \nAbout Travis Carson\n \nTravis Carson, JD, MBA, is the Founder of Market Force Global, an organization that develops and trains tactics for implementing high-performance by individuals, teams, and organizations. He works to be his clients Chief of Staff. The combination of operations experience and graduate degrees in law and business provide Travis a unique perspective on solving difficult business issues. In addition to practicing law, Travis co-founded a real estate investment firm and was a Chief Operating Officer for a national lighting retrofit firm specializing in upgrading health care facilities throughout the US. Travis holds a JD and MBA from University of Arizona.\n
SUMMARY:Excellence Under Pressure: A Leadership Development Seminar  - Southern Arizona Estate Planning Council 
PRIORITY:3
BEGIN:VALARM
TRIGGER:PT18H
ACTION:DISPLAY
DESCRIPTION:Reminder
END:VALARM
END:VEVENT
END:VCALENDAR