BEGIN:VCALENDAR
PRODID:-//hacksw/handcal//NONSGML v1.0//EN
VERSION:2.0
METHOD:PUBLISH
BEGIN:VEVENT
DTSTART:20200507T220000Z
LOCATION:
UID:1899020200507T220000Z*CANCELED* Member Appreciation Happy Hour
DTSTAMP:20260421T100555Z
DESCRIPTION:\nTBD\n
SUMMARY:*CANCELED* Member Appreciation Happy Hour - Southern Arizona Estate Planning Council 
PRIORITY:3
BEGIN:VALARM
TRIGGER:PT18H
ACTION:DISPLAY
DESCRIPTION:Reminder
END:VALARM
END:VEVENT
END:VCALENDAR