BEGIN:VCALENDAR
PRODID:-//hacksw/handcal//NONSGML v1.0//EN
VERSION:2.0
METHOD:PUBLISH
BEGIN:VEVENT
DTSTART:20230609T150000Z
DTEND:20230609T183000Z
LOCATION: Community Foundation Campus 5049 E Broadway Blvd, Tucson, AZ 85711
UID:2414620230609T150000Z Bonus Summer Session: Fiduciary Income Taxation co-sponsored with Community Foundation for Southern Arizona 
DTSTAMP:20260421T102427Z
DESCRIPTION:\n\n \n \n \n[Handouts available for download](#hanouts)\n \nFiduciary Income Tax\n \nWe’re kicking off our 2023-2024 season early with two bonus learning opportunities that will be hosted and co-sponsored by the Community Foundation for Southern Arizona. These two sessions will offer six bonus hours of CLE to professionals who join Southern Arizona Estate Planning Council for its ’23-’24 season.\n \n \n \nAbout the Speakers\n \nDaren J. Layton assists clients in creating and implementing personalized estate plans, navigating income, gift and estate tax issues, business succession matters, and charitable planning.  In addition to lifetime planning, Daren assists clients with probate and trust administration matters.  Daren works with clients’ other advisers to provide holistic solutions to clients’ needs.  Daren is also a certified public accountant (CPA).\n \n \n \nAnne Roediger is a founding partner at Roediger Hoff PLC, a certified public accounting firm based in Tucson.  A fourth-generation Tucsonan, she earned her bachelor’s and master’s degrees in accounting from the University of Arizona. Anne continually updates her skills with professional education in tax planning, accounting, and leadership training with Mindshop, a global consulting resource. She is an active member of the Southern Arizona Estate Planning Council, the Tucson Tax Study Group, the Arizona Society of CPAs, and the American Institute of CPAs. Anne previously served as treasurer and trustee of the Community Foundation for Southern Arizona. Anne enjoys home improvement projects and piloting small aircraft around the southwest in her spare time.\n \n \n \n\n \n[]\n
SUMMARY: Bonus Summer Session: Fiduciary Income Taxation co-sponsored with Community Foundation for Southern Arizona  - Southern Arizona Estate Planning Council 
PRIORITY:3
BEGIN:VALARM
TRIGGER:PT18H
ACTION:DISPLAY
DESCRIPTION:Reminder
END:VALARM
END:VEVENT
END:VCALENDAR