BEGIN:VCALENDAR
PRODID:-//hacksw/handcal//NONSGML v1.0//EN
VERSION:2.0
METHOD:PUBLISH
BEGIN:VEVENT
DTSTART:20240614T150000Z
DTEND:20240614T190000Z
LOCATION:Community Foundation Campus, 5049 E Broadway Blvd #201, Tucson, AZ 85711
UID:2541420240614T150000ZSAEPC Summer Session I: Mine? Yours? Ours? Understanding Community Property in Arizona
DTSTAMP:20260421T101504Z
DESCRIPTION:\n[Handouts now available](#end)\n \n \n \nAbout the program\n \nWhether you are a financial advisor, CPA, insurance broker, attorney, trust officer, or a planned giving professional, odds are you’ve had a community property issue cross your desk. This program, featuring Professor Jamie Ratner, who will offer community property law substance, and a multidisciplinary panel of professionals, who will apply real-life scenarios to the session’s content, aims to inform and engage all levels of professionals who serve married/soon-to-be-divorced/divorced/widowed clients and their property.\n \nEducation will include:\n  \nA primer on community property law that all professionals can understand.\n   \nInstruction on characterizing community and separate property and liabilities.\n   \nExplanation of legal presumptions concerning community and separate property, the various scenarios that trigger the presumptions, and how these presumptions can be overcome.\n   \nDiscussion concerning agreements that change the character of community and separate property.\n   \nEmphasis on the importance (or not) of asset titles and deeds.\n  \nWe are soliciting questions from attendees through May 31, which may be incorporated into the content and or panel discussions. Please be specific and remember not to share client information. E-mail questions to [admin@saepc.org](mailto:admin@saepc.org?subject=Mine%3F%20Yours%3F%20Ours%3F).\n \nThis program is free to current SAEPC members and new members who join the Council for the 2024-2025 season. Non-members are welcome to attend for a $75 registration fee.\n \n \n \nAbout the Speaker\n \nProf. Jamie Ratner, Professor of Law Emeritus at the University of Arizona College of Law, has taught marital property courses (as well as antitrust, contracts, administrative law and law and economics courses) for "too many years." In 1980 he received his JD from University of California Berkeley Law School and an MA in economics from, Berkeley the University of California, Berkeley Economics Department as part of Berkeley's then nascent law and economics concurrent degree program. Prior to teaching at Arizona, Prof. Ratner was for 5 years a prosecutor at the Antitrust Division of the United States Dept. of Justice in Washington D.C. His research is typically interdisciplinary, encompassing several different areas of law as well as disciplines such as economics and psychology. His marital property publications include analysis of joint tenancy with right of survivorship property held by married couples in community property jurisdictions, analysis of child support and other premarital debts in community property jurisdictions, analysis of the nature of creditor and debtor windfalls resulting from divorce in community property jurisdictions, and analysis of "equitable" vs. "equal" distributions of community property at divorce and death. Prof. Ratner has also authored a case book for his Arizona-based community property course which, consistent with his antitrust background and his loathing of the uncompetitive overpricing of law school course casebooks, he provides without charge to his students in hard copy as well as by posting it in digital form on his course web site.\n \nAbout the Panelists\n \nAnn C. Lyons practices in the areas of Personal Injury, Family law and Guardianship/Conservatorship. Ann takes great pride in providing excellent legal services to clients navigating difficult circumstances in their lives.\n \nAnn helps clients in all aspects of their claim both prelitigation and during litigation. Ann believes that the attorney and the client should work together as a team. Ann works closely with each client, to ensure that the best possible legal outcome is achieved. Although many cases will be resolved without the necessity of litigation, sometimes litigation is unavoidable. Ann is comfortable with all areas of litigation, including witness interviews, depositions, motion practice, hearings, settlement negotiations and conferences, and trials.\n \nWhen not practicing law, Ann takes improv classes and performs with a local improv group. The Yes And philosophy is helpful in the practice of law and life in general. Ann also enjoys spending time with her daughters and friends.\n \nScott Styrmoe, MBA , CPA, CFP®, is an Advisor and Shareholder at TCI Wealth Advisors. Scott believes that optimism is a rational and healthy response to uncertainty. He became a financial advisor to help people find some measure of lasting financial peace and is committed to helping his clients make good decisions regarding their financial affairs. Scott believes we have less control over our lives than we would like most of the time and we have limited resources. Happiness isn’t an end point, it’s embedded in the journey. He encourages his clients to craft a good financial plan, broadly diversify their investments, and keep a calm disciplined perspective. Scott received his Bachelor of Science, Business Administration degree and his MBA in Finance and Marketing at the University of Arizona. Scott has been a Certified Public Accountant (CPA) since 1985 and a Certified Financial Planner (CFP®) since 2009. He served as a Board Member for the Southern Arizona Estate Planning Council. Scott is also a member of The Steven W. Phillips Tucson Tax Study Group, the American Institute of CPAs, and the Arizona Society of CPAs. Scott’s an adjunct lecturer for the Personal and Family Financial Planning program at the University of Arizona’s Norton School of Human Ecology. When out of the office, Scott enjoys yoga, cycling, hiking, fly fishing, mountain biking and outdoor adventures with his wife, Debbie, and daughter, Lily. To learn more about Scott and TCI Wealth Advisors, visit tciwealth.com.\n \nMichelle N. Kinnison, CPA, Owner, Atalanta LLC:  Michelle works with individuals, business owners and trustees on tax compliance while optimizing tax savings through strategic planning.  With over twenty years in the tax industry, Michelle has experienced a broad spectrum of scenarios.  Engaging with a variety of clients to include single taxpayers, newlyweds, and those newly widowed, Michelle focuses on empowering and educating clients as they navigate their respective tax landscape.\n \n\n\n \n  \n \n[]\n
SUMMARY:SAEPC Summer Session I: Mine? Yours? Ours? Understanding Community Property in Arizona - Southern Arizona Estate Planning Council 
PRIORITY:3
BEGIN:VALARM
TRIGGER:PT18H
ACTION:DISPLAY
DESCRIPTION:Reminder
END:VALARM
END:VEVENT
END:VCALENDAR