BEGIN:VCALENDAR
PRODID:-//hacksw/handcal//NONSGML v1.0//EN
VERSION:2.0
METHOD:PUBLISH
BEGIN:VEVENT
DTSTART:20250219T224500Z
DTEND:20250220T020000Z
LOCATION:Arizona Inn, 2200 E Elm St, Tucson, AZ 85719
UID:2593620250219T224500ZEthics at the Movies
DTSTAMP:20260421T103153Z
DESCRIPTION:\n[Handouts now available](#end)\n \nThis is a 2-hour Program\n\n\n \nRegistration \n \n3:45pm – 4:00pm\n\n\n \nProgram\n\n\n \n4:00pm – 6:00pm\n\n\n \nDinner & Drinks\n \n6:00pm – 7:00pm\n \n \n \nRESERVATIONS\n \nYou will be sent a return email confirmation.\n\n\n \n \n \n \n \nAbout the Program\n \nThis presentation will cover the disconnect between how lawyers are supposed to behave (the ethics rules) and how movies and television show us behaving (not typically ethically). We will discuss the various stages of how lawyers have been portrayed onscreen and will then review the ethics rules by showing clips and discussing "what went wrong" in terms of legal ethics.\n \n \n \nAbout the Speaker\n \nNancy B. Rapoport is a UNLV Distinguished Professor, the Garman Turner Gordon Professor of Law at the William S. Boyd School of Law, University of Nevada, Las Vegas, and an Affiliate Professor of Business Law and Ethics in the Lee Business School at UNLV. She writes about bankruptcy ethics, organizational behavior, and lawyers in popular culture. She is admitted to the bars of the states of California (inactive member), Ohio (inactive member), Nebraska (inactive member), Texas, and Nevada and of the United States Supreme Court. In 2001, she was elected to the American Law Institute, and in 2002, she received a Distinguished Alumna Award from Rice University. She is also a Fellow of the American College of Bankruptcy. In 2017, she received the Commercial Law League of America’s Lawrence P. King Award for Excellence in Bankruptcy, and in 2018, she received a NAACP Legacy Builder Award (Las Vegas Branch #1111).\n \nThank you to our Happy Hour Sponsor\n \n \n \nThank you to our Speaker Sponsor\n \n \n \nIf you are unable to view the reservation form please [Click here](https://form.jotform.com/242485666330157) to be redirected\n \n[].\n
SUMMARY:Ethics at the Movies - Southern Arizona Estate Planning Council 
PRIORITY:3
BEGIN:VALARM
TRIGGER:PT18H
ACTION:DISPLAY
DESCRIPTION:Reminder
END:VALARM
END:VEVENT
END:VCALENDAR