BEGIN:VCALENDAR
PRODID:-//hacksw/handcal//NONSGML v1.0//EN
VERSION:2.0
METHOD:PUBLISH
BEGIN:VEVENT
DTSTART:20240823T000000Z
DTEND:20240823T020000Z
LOCATION:The Wine Collective, 4280 N Campbell Ave, Tucson, AZ 85718
UID:2609120240823T000000ZWelcome Back Happy Hour
DTSTAMP:20260421T102841Z
DESCRIPTION:\n\n \nOr [Click Here to Register](https://form.jotform.com/241155217875156)\n
SUMMARY:Welcome Back Happy Hour - Southern Arizona Estate Planning Council 
PRIORITY:3
BEGIN:VALARM
TRIGGER:PT18H
ACTION:DISPLAY
DESCRIPTION:Reminder
END:VALARM
END:VEVENT
END:VCALENDAR