BEGIN:VCALENDAR
PRODID:-//hacksw/handcal//NONSGML v1.0//EN
VERSION:2.0
METHOD:PUBLISH
BEGIN:VEVENT
DTSTART:20260814T150000Z
DTEND:20260814T183000Z
LOCATION:Community Foundation Campus, 5049 E Broadway Blvd #201, Tucson, AZ 85711
UID:2926420260814T150000ZSummer Series II: International Estate Planning
DTSTAMP:20260423T122810Z
DESCRIPTION:\n[Handouts now available](#end)\n \n \n \nSummer Series II\n \n \n \n[]\n \nAbout the Program\n \n \n \nAbout the Speaker\n \n \n \nThank you to our Meeting Sponsor\n \n \n \n[]\n \n\n \n[].\n
SUMMARY:Summer Series II: International Estate Planning - Southern Arizona Estate Planning Council 
PRIORITY:3
BEGIN:VALARM
TRIGGER:PT18H
ACTION:DISPLAY
DESCRIPTION:Reminder
END:VALARM
END:VEVENT
END:VCALENDAR