BEGIN:VCALENDAR
PRODID:-//hacksw/handcal//NONSGML v1.0//EN
VERSION:2.0
METHOD:PUBLISH
BEGIN:VEVENT
DTSTART:20130125T150000Z
DTEND:20130125T230000Z
LOCATION:Double Tree
UID:653120130125T150000ZEstate Planners' Day
DTSTAMP:20260421T103833Z
DESCRIPTION:
SUMMARY:Estate Planners' Day - Southern Arizona Estate Planning Council 
PRIORITY:3
BEGIN:VALARM
TRIGGER:PT18H
ACTION:DISPLAY
DESCRIPTION:Reminder
END:VALARM
END:VEVENT
END:VCALENDAR